BEGIN:VCALENDAR
VERSION:2.0
PRODID:-//Sabre//Sabre VObject 4.5.3//EN
CALSCALE:GREGORIAN
BEGIN:VEVENT
UID:sabre-vobject-47a17a50-d314-46f8-a347-d0405eac87df
DTSTAMP:20260425T105520Z
SUMMARY:Aging
DESCRIPTION:
X-ALT-DESC:FMTTYPE=text/html:<!DOCTYPE HTML PUBLIC "-//W3C//DTD HTML 3.2//E
 N"><HTML></HTML>
CREATED;TZID=America/Chicago:20231229T100201
URL;VALUE=URI:https://www.prideinc.org/calendar/aging-5
DTSTART;TZID=America/Chicago:20240201T100000
DTEND;TZID=America/Chicago:20240201T120000
SEQUENCE:0
END:VEVENT
END:VCALENDAR
