BEGIN:VCALENDAR
VERSION:2.0
PRODID:-//Sabre//Sabre VObject 4.5.3//EN
CALSCALE:GREGORIAN
BEGIN:VEVENT
UID:sabre-vobject-9947a051-b421-4dea-9f39-bd13d7ce2ab7
DTSTAMP:20260425T134451Z
SUMMARY:CPR/FA Recert
DESCRIPTION:
X-ALT-DESC:FMTTYPE=text/html:<!DOCTYPE HTML PUBLIC "-//W3C//DTD HTML 3.2//E
 N"><HTML></HTML>
CREATED;TZID=America/Chicago:20231229T101017
URL;VALUE=URI:https://www.prideinc.org/calendar/cprfa-recert-7
DTSTART;TZID=America/Chicago:20240213T150000
DTEND;TZID=America/Chicago:20240213T160000
SEQUENCE:0
END:VEVENT
BEGIN:VEVENT
UID:sabre-vobject-1baf9ff5-5ed6-4a3e-b594-a4b0787a1a63
DTSTAMP:20260425T134451Z
SUMMARY:CPR/FA Recert
DESCRIPTION:
X-ALT-DESC:FMTTYPE=text/html:<!DOCTYPE HTML PUBLIC "-//W3C//DTD HTML 3.2//E
 N"><HTML></HTML>
CREATED;TZID=America/Chicago:20231229T101017
URL;VALUE=URI:https://www.prideinc.org/calendar/cprfa-recert-7
DTSTART;TZID=America/Chicago:20240226T160000
DTEND;TZID=America/Chicago:20240226T170000
SEQUENCE:1
END:VEVENT
END:VCALENDAR
