BEGIN:VCALENDAR
VERSION:2.0
PRODID:-//Sabre//Sabre VObject 4.5.3//EN
CALSCALE:GREGORIAN
BEGIN:VEVENT
UID:sabre-vobject-4526effc-96d8-46f5-ba4a-89479a56a0da
DTSTAMP:20260425T120356Z
SUMMARY:Aging
DESCRIPTION:
X-ALT-DESC:FMTTYPE=text/html:<!DOCTYPE HTML PUBLIC "-//W3C//DTD HTML 3.2//E
 N"><HTML></HTML>
CREATED;TZID=America/Chicago:20240207T115855
URL;VALUE=URI:https://www.prideinc.org/calendar/aging-6
DTSTART;TZID=America/Chicago:20240304T130000
DTEND;TZID=America/Chicago:20240304T150000
SEQUENCE:0
END:VEVENT
END:VCALENDAR
