BEGIN:VCALENDAR
VERSION:2.0
PRODID:-//Sabre//Sabre VObject 4.5.3//EN
CALSCALE:GREGORIAN
BEGIN:VEVENT
UID:sabre-vobject-9971bd79-8193-472a-b12c-981c2376f094
DTSTAMP:20260425T122400Z
SUMMARY:Therapeutic Responses
DESCRIPTION:
X-ALT-DESC:FMTTYPE=text/html:<!DOCTYPE HTML PUBLIC "-//W3C//DTD HTML 3.2//E
 N"><HTML></HTML>
CREATED;TZID=America/Chicago:20240207T120129
URL;VALUE=URI:https://www.prideinc.org/calendar/therapeutic-responses-7
DTSTART;TZID=America/Chicago:20240306T130000
DTEND;TZID=America/Chicago:20240306T160000
SEQUENCE:0
END:VEVENT
BEGIN:VEVENT
UID:sabre-vobject-ecbc159a-403b-441e-9d94-e39f2ea71ec1
DTSTAMP:20260425T122400Z
SUMMARY:Therapeutic Responses
DESCRIPTION:
X-ALT-DESC:FMTTYPE=text/html:<!DOCTYPE HTML PUBLIC "-//W3C//DTD HTML 3.2//E
 N"><HTML></HTML>
CREATED;TZID=America/Chicago:20240207T120129
URL;VALUE=URI:https://www.prideinc.org/calendar/therapeutic-responses-7
DTSTART;TZID=America/Chicago:20240314T160000
DTEND;TZID=America/Chicago:20240314T190000
SEQUENCE:1
END:VEVENT
BEGIN:VEVENT
UID:sabre-vobject-bcc02e88-ab73-48ff-b343-524c49b2e57b
DTSTAMP:20260425T122400Z
SUMMARY:Therapeutic Responses
DESCRIPTION:
X-ALT-DESC:FMTTYPE=text/html:<!DOCTYPE HTML PUBLIC "-//W3C//DTD HTML 3.2//E
 N"><HTML></HTML>
CREATED;TZID=America/Chicago:20240207T120129
URL;VALUE=URI:https://www.prideinc.org/calendar/therapeutic-responses-7
DTSTART;TZID=America/Chicago:20240319T124500
DTEND;TZID=America/Chicago:20240319T154500
SEQUENCE:2
END:VEVENT
END:VCALENDAR
