BEGIN:VCALENDAR
VERSION:2.0
PRODID:-//Sabre//Sabre VObject 4.5.3//EN
CALSCALE:GREGORIAN
BEGIN:VEVENT
UID:sabre-vobject-8cd0cc34-4ef0-4f00-8a06-97192dad9187
DTSTAMP:20260425T121821Z
SUMMARY:Legal Issues
DESCRIPTION:
X-ALT-DESC:FMTTYPE=text/html:<!DOCTYPE HTML PUBLIC "-//W3C//DTD HTML 3.2//E
 N"><HTML></HTML>
CREATED;TZID=America/Chicago:20240305T160228
URL;VALUE=URI:https://www.prideinc.org/calendar/legal-issues-9
DTSTART;TZID=America/Chicago:20240402T100000
DTEND;TZID=America/Chicago:20240402T120000
SEQUENCE:0
END:VEVENT
BEGIN:VEVENT
UID:sabre-vobject-3a558e6f-8f96-497d-a2d2-6b83955e0f9a
DTSTAMP:20260425T121821Z
SUMMARY:Legal Issues
DESCRIPTION:
X-ALT-DESC:FMTTYPE=text/html:<!DOCTYPE HTML PUBLIC "-//W3C//DTD HTML 3.2//E
 N"><HTML></HTML>
CREATED;TZID=America/Chicago:20240305T160228
URL;VALUE=URI:https://www.prideinc.org/calendar/legal-issues-9
DTSTART;TZID=America/Chicago:20240430T130000
DTEND;TZID=America/Chicago:20240430T150000
SEQUENCE:1
END:VEVENT
END:VCALENDAR
