BEGIN:VCALENDAR
VERSION:2.0
PRODID:-//Sabre//Sabre VObject 4.5.3//EN
CALSCALE:GREGORIAN
BEGIN:VEVENT
UID:sabre-vobject-6d217aaa-76a4-4b8b-920a-58bded57c160
DTSTAMP:20260425T122452Z
SUMMARY:New Team Member
DESCRIPTION:
X-ALT-DESC:FMTTYPE=text/html:<!DOCTYPE HTML PUBLIC "-//W3C//DTD HTML 3.2//E
 N"><HTML></HTML>
CREATED;TZID=America/Chicago:20240508T115002
URL;VALUE=URI:https://www.prideinc.org/calendar/new-team-member-12
DTSTART;TZID=America/Chicago:20240604T093000
DTEND;TZID=America/Chicago:20240604T120000
SEQUENCE:0
END:VEVENT
BEGIN:VEVENT
UID:sabre-vobject-f52f4fab-49cb-4e8a-9520-2f1db6bf338d
DTSTAMP:20260425T122452Z
SUMMARY:New Team Member
DESCRIPTION:
X-ALT-DESC:FMTTYPE=text/html:<!DOCTYPE HTML PUBLIC "-//W3C//DTD HTML 3.2//E
 N"><HTML></HTML>
CREATED;TZID=America/Chicago:20240508T115002
URL;VALUE=URI:https://www.prideinc.org/calendar/new-team-member-12
DTSTART;TZID=America/Chicago:20240612T163000
DTEND;TZID=America/Chicago:20240612T190000
SEQUENCE:1
END:VEVENT
BEGIN:VEVENT
UID:sabre-vobject-417db52d-f964-4f29-8a12-e68a1ff7c4ac
DTSTAMP:20260425T122452Z
SUMMARY:New Team Member
DESCRIPTION:
X-ALT-DESC:FMTTYPE=text/html:<!DOCTYPE HTML PUBLIC "-//W3C//DTD HTML 3.2//E
 N"><HTML></HTML>
CREATED;TZID=America/Chicago:20240508T115002
URL;VALUE=URI:https://www.prideinc.org/calendar/new-team-member-12
DTSTART;TZID=America/Chicago:20240617T093000
DTEND;TZID=America/Chicago:20240617T120000
SEQUENCE:2
END:VEVENT
BEGIN:VEVENT
UID:sabre-vobject-814513fe-544b-421a-868d-d34afc22d3ae
DTSTAMP:20260425T122452Z
SUMMARY:New Team Member
DESCRIPTION:
X-ALT-DESC:FMTTYPE=text/html:<!DOCTYPE HTML PUBLIC "-//W3C//DTD HTML 3.2//E
 N"><HTML></HTML>
CREATED;TZID=America/Chicago:20240508T115002
URL;VALUE=URI:https://www.prideinc.org/calendar/new-team-member-12
DTSTART;TZID=America/Chicago:20240626T163000
DTEND;TZID=America/Chicago:20240626T190000
SEQUENCE:3
END:VEVENT
END:VCALENDAR
