BEGIN:VCALENDAR
VERSION:2.0
PRODID:-//Sabre//Sabre VObject 4.5.3//EN
CALSCALE:GREGORIAN
BEGIN:VEVENT
UID:sabre-vobject-998a7288-523f-48c3-b700-6cb49db15a23
DTSTAMP:20260425T120345Z
SUMMARY:Aging
DESCRIPTION:
X-ALT-DESC:FMTTYPE=text/html:<!DOCTYPE HTML PUBLIC "-//W3C//DTD HTML 3.2//E
 N"><HTML></HTML>
CREATED;TZID=America/Chicago:20240508T115300
URL;VALUE=URI:https://www.prideinc.org/calendar/aging-9
DTSTART;TZID=America/Chicago:20240606T130000
DTEND;TZID=America/Chicago:20240606T150000
SEQUENCE:0
END:VEVENT
END:VCALENDAR
