BEGIN:VCALENDAR
VERSION:2.0
PRODID:-//Sabre//Sabre VObject 4.5.3//EN
CALSCALE:GREGORIAN
BEGIN:VEVENT
UID:sabre-vobject-5b538a78-5f21-4f45-882e-1a73ae60a4ba
DTSTAMP:20260425T133705Z
SUMMARY:CPI
DESCRIPTION:
X-ALT-DESC:FMTTYPE=text/html:<!DOCTYPE HTML PUBLIC "-//W3C//DTD HTML 3.2//E
 N"><HTML></HTML>
CREATED;TZID=America/Chicago:20230619T100908
URL;VALUE=URI:https://www.prideinc.org/calendar/cpi-1
DTSTART;TZID=America/Chicago:20230720T160000
DTEND;TZID=America/Chicago:20230720T190000
SEQUENCE:0
END:VEVENT
END:VCALENDAR
