BEGIN:VCALENDAR
VERSION:2.0
PRODID:-//Sabre//Sabre VObject 4.5.3//EN
CALSCALE:GREGORIAN
BEGIN:VEVENT
UID:sabre-vobject-197ec542-9fc9-41ed-beeb-4ab0e86f8065
DTSTAMP:20260425T121221Z
SUMMARY:APO
DESCRIPTION:
X-ALT-DESC:FMTTYPE=text/html:<!DOCTYPE HTML PUBLIC "-//W3C//DTD HTML 3.2//E
 N"><HTML></HTML>
CREATED;TZID=America/Chicago:20240612T102530
URL;VALUE=URI:https://www.prideinc.org/calendar/apo-13
DTSTART;TZID=America/Chicago:20240708T100000
DTEND;TZID=America/Chicago:20240708T120000
SEQUENCE:0
END:VEVENT
BEGIN:VEVENT
UID:sabre-vobject-aced4659-4a6a-4975-ab20-ad3972a81af0
DTSTAMP:20260425T121221Z
SUMMARY:APO
DESCRIPTION:
X-ALT-DESC:FMTTYPE=text/html:<!DOCTYPE HTML PUBLIC "-//W3C//DTD HTML 3.2//E
 N"><HTML></HTML>
CREATED;TZID=America/Chicago:20240612T102530
URL;VALUE=URI:https://www.prideinc.org/calendar/apo-13
DTSTART;TZID=America/Chicago:20240724T100000
DTEND;TZID=America/Chicago:20240724T120000
SEQUENCE:1
END:VEVENT
END:VCALENDAR
