BEGIN:VCALENDAR
VERSION:2.0
PRODID:-//Sabre//Sabre VObject 4.5.3//EN
CALSCALE:GREGORIAN
BEGIN:VEVENT
UID:sabre-vobject-c557b58b-c4d1-4b1b-a880-bcfcecf2dde2
DTSTAMP:20260425T121958Z
SUMMARY:Legal Issues
DESCRIPTION:
X-ALT-DESC:FMTTYPE=text/html:<!DOCTYPE HTML PUBLIC "-//W3C//DTD HTML 3.2//E
 N"><HTML></HTML>
CREATED;TZID=America/Chicago:20240612T102707
URL;VALUE=URI:https://www.prideinc.org/calendar/legal-issues-12
DTSTART;TZID=America/Chicago:20240709T100000
DTEND;TZID=America/Chicago:20240709T120000
SEQUENCE:0
END:VEVENT
BEGIN:VEVENT
UID:sabre-vobject-336fe378-d79a-46f2-b7ac-046087381d4e
DTSTAMP:20260425T121958Z
SUMMARY:Legal Issues
DESCRIPTION:
X-ALT-DESC:FMTTYPE=text/html:<!DOCTYPE HTML PUBLIC "-//W3C//DTD HTML 3.2//E
 N"><HTML></HTML>
CREATED;TZID=America/Chicago:20240612T102707
URL;VALUE=URI:https://www.prideinc.org/calendar/legal-issues-12
DTSTART;TZID=America/Chicago:20240725T130000
DTEND;TZID=America/Chicago:20240725T150000
SEQUENCE:1
END:VEVENT
END:VCALENDAR
