BEGIN:VCALENDAR
VERSION:2.0
PRODID:-//Sabre//Sabre VObject 4.5.3//EN
CALSCALE:GREGORIAN
BEGIN:VEVENT
UID:sabre-vobject-83153d2f-5092-4cc2-ab3e-0c1f6766fe5d
DTSTAMP:20260425T105046Z
SUMMARY:Aging
DESCRIPTION:
X-ALT-DESC:FMTTYPE=text/html:<!DOCTYPE HTML PUBLIC "-//W3C//DTD HTML 3.2//E
 N"><HTML></HTML>
CREATED;TZID=America/Chicago:20240612T103622
URL;VALUE=URI:https://www.prideinc.org/calendar/aging-10
DTSTART;TZID=America/Chicago:20240715T100000
DTEND;TZID=America/Chicago:20240715T120000
SEQUENCE:0
END:VEVENT
END:VCALENDAR
