BEGIN:VCALENDAR
VERSION:2.0
PRODID:-//Sabre//Sabre VObject 4.5.3//EN
CALSCALE:GREGORIAN
BEGIN:VEVENT
UID:sabre-vobject-a834c285-1a94-4e91-b7ad-29786d7d7e2f
DTSTAMP:20260425T174420Z
SUMMARY:Interpersonal Communication
DESCRIPTION:
X-ALT-DESC:FMTTYPE=text/html:<!DOCTYPE HTML PUBLIC "-//W3C//DTD HTML 3.2//E
 N"><HTML></HTML>
CREATED;TZID=America/Chicago:20240612T103533
URL;VALUE=URI:https://www.prideinc.org/calendar/interpersonal-communication
 -2
DTSTART;TZID=America/Chicago:20240718T130000
DTEND;TZID=America/Chicago:20240718T143000
SEQUENCE:0
END:VEVENT
END:VCALENDAR
