BEGIN:VCALENDAR
VERSION:2.0
PRODID:-//Sabre//Sabre VObject 4.5.3//EN
CALSCALE:GREGORIAN
BEGIN:VEVENT
UID:sabre-vobject-7ded989d-fd20-4fb5-a8ff-7ae3dd43be7b
DTSTAMP:20260425T121948Z
SUMMARY:Legal Issues
DESCRIPTION:
X-ALT-DESC:FMTTYPE=text/html:<!DOCTYPE HTML PUBLIC "-//W3C//DTD HTML 3.2//E
 N"><HTML></HTML>
CREATED;TZID=America/Chicago:20240812T142310
URL;VALUE=URI:https://www.prideinc.org/calendar/legal-issues-14
DTSTART;TZID=America/Chicago:20240909T100000
DTEND;TZID=America/Chicago:20240909T120000
SEQUENCE:0
END:VEVENT
BEGIN:VEVENT
UID:sabre-vobject-de161362-4af7-406c-841a-495f62e9493f
DTSTAMP:20260425T121948Z
SUMMARY:Legal Issues
DESCRIPTION:
X-ALT-DESC:FMTTYPE=text/html:<!DOCTYPE HTML PUBLIC "-//W3C//DTD HTML 3.2//E
 N"><HTML></HTML>
CREATED;TZID=America/Chicago:20240812T142310
URL;VALUE=URI:https://www.prideinc.org/calendar/legal-issues-14
DTSTART;TZID=America/Chicago:20240926T130000
DTEND;TZID=America/Chicago:20240926T150000
SEQUENCE:1
END:VEVENT
END:VCALENDAR
