BEGIN:VCALENDAR
VERSION:2.0
PRODID:-//Sabre//Sabre VObject 4.5.3//EN
CALSCALE:GREGORIAN
BEGIN:VEVENT
UID:sabre-vobject-4c2d90ef-a781-4b1d-87dc-7c2c467eaa06
DTSTAMP:20260425T133717Z
SUMMARY:APO
DESCRIPTION:
X-ALT-DESC:FMTTYPE=text/html:<!DOCTYPE HTML PUBLIC "-//W3C//DTD HTML 3.2//E
 N"><HTML></HTML>
CREATED;TZID=America/Chicago:20240828T150413
URL;VALUE=URI:https://www.prideinc.org/calendar/654
DTSTART;TZID=America/Chicago:20240919T100000
DTEND;TZID=America/Chicago:20240919T120000
SEQUENCE:0
END:VEVENT
END:VCALENDAR
