BEGIN:VCALENDAR
VERSION:2.0
PRODID:-//Sabre//Sabre VObject 4.5.3//EN
CALSCALE:GREGORIAN
BEGIN:VEVENT
UID:sabre-vobject-bf67aca5-175b-4a37-a8a5-ab5a1cbd4233
DTSTAMP:20260425T120503Z
SUMMARY:Aging
DESCRIPTION:
X-ALT-DESC:FMTTYPE=text/html:<!DOCTYPE HTML PUBLIC "-//W3C//DTD HTML 3.2//E
 N"><HTML></HTML>
CREATED;TZID=America/Chicago:20241105T140133
URL;VALUE=URI:https://www.prideinc.org/calendar/aging-15
DTSTART;TZID=America/Chicago:20241203T130000
DTEND;TZID=America/Chicago:20241203T150000
SEQUENCE:0
END:VEVENT
END:VCALENDAR
