BEGIN:VCALENDAR
VERSION:2.0
PRODID:-//Sabre//Sabre VObject 4.5.3//EN
CALSCALE:GREGORIAN
BEGIN:VEVENT
UID:sabre-vobject-ec247025-9eca-49f8-bcbb-4a973e2c0a91
DTSTAMP:20260425T120229Z
SUMMARY:Aging
DESCRIPTION:
X-ALT-DESC:FMTTYPE=text/html:<!DOCTYPE HTML PUBLIC "-//W3C//DTD HTML 3.2//E
 N"><HTML></HTML>
CREATED;TZID=America/Chicago:20230831T134901
URL;VALUE=URI:https://www.prideinc.org/calendar/aging
DTSTART;TZID=America/Chicago:20230912T130000
DTEND;TZID=America/Chicago:20230912T150000
SEQUENCE:0
END:VEVENT
END:VCALENDAR
