BEGIN:VCALENDAR
VERSION:2.0
PRODID:-//Sabre//Sabre VObject 4.5.3//EN
CALSCALE:GREGORIAN
BEGIN:VEVENT
UID:sabre-vobject-73734a03-f9a4-4cd0-a5c9-f9869c125862
DTSTAMP:20260425T122329Z
SUMMARY:New Team Member
DESCRIPTION:
X-ALT-DESC:FMTTYPE=text/html:<!DOCTYPE HTML PUBLIC "-//W3C//DTD HTML 3.2//E
 N"><HTML></HTML>
CREATED;TZID=America/Chicago:20250103T131143
URL;VALUE=URI:https://www.prideinc.org/calendar/new-team-member-20
DTSTART;TZID=America/Chicago:20250205T163000
DTEND;TZID=America/Chicago:20250205T183000
SEQUENCE:0
END:VEVENT
BEGIN:VEVENT
UID:sabre-vobject-390b4968-e0f6-475a-9498-d96c71c12dd6
DTSTAMP:20260425T122329Z
SUMMARY:New Team Member
DESCRIPTION:
X-ALT-DESC:FMTTYPE=text/html:<!DOCTYPE HTML PUBLIC "-//W3C//DTD HTML 3.2//E
 N"><HTML></HTML>
CREATED;TZID=America/Chicago:20250103T131143
URL;VALUE=URI:https://www.prideinc.org/calendar/new-team-member-20
DTSTART;TZID=America/Chicago:20250211T093000
DTEND;TZID=America/Chicago:20250211T113000
SEQUENCE:1
END:VEVENT
BEGIN:VEVENT
UID:sabre-vobject-b924c93c-1a83-4843-84a6-3b3f0e2ef7ff
DTSTAMP:20260425T122329Z
SUMMARY:New Team Member
DESCRIPTION:
X-ALT-DESC:FMTTYPE=text/html:<!DOCTYPE HTML PUBLIC "-//W3C//DTD HTML 3.2//E
 N"><HTML></HTML>
CREATED;TZID=America/Chicago:20250103T131143
URL;VALUE=URI:https://www.prideinc.org/calendar/new-team-member-20
DTSTART;TZID=America/Chicago:20250219T163000
DTEND;TZID=America/Chicago:20250219T183000
SEQUENCE:2
END:VEVENT
BEGIN:VEVENT
UID:sabre-vobject-795aec99-db1f-4252-800f-ec42ccd365ea
DTSTAMP:20260425T122329Z
SUMMARY:New Team Member
DESCRIPTION:
X-ALT-DESC:FMTTYPE=text/html:<!DOCTYPE HTML PUBLIC "-//W3C//DTD HTML 3.2//E
 N"><HTML></HTML>
CREATED;TZID=America/Chicago:20250103T131143
URL;VALUE=URI:https://www.prideinc.org/calendar/new-team-member-20
DTSTART;TZID=America/Chicago:20250226T093000
DTEND;TZID=America/Chicago:20250226T113000
SEQUENCE:3
END:VEVENT
END:VCALENDAR
