BEGIN:VCALENDAR
VERSION:2.0
PRODID:-//Sabre//Sabre VObject 4.5.3//EN
CALSCALE:GREGORIAN
BEGIN:VEVENT
UID:sabre-vobject-c3812f0c-59d2-4c1c-adfb-a57f09918fe3
DTSTAMP:20260425T105545Z
SUMMARY:Aging
DESCRIPTION:
X-ALT-DESC:FMTTYPE=text/html:<!DOCTYPE HTML PUBLIC "-//W3C//DTD HTML 3.2//E
 N"><HTML></HTML>
CREATED;TZID=America/Chicago:20250129T154032
URL;VALUE=URI:https://www.prideinc.org/calendar/aging-18
DTSTART;TZID=America/Chicago:20250304T100000
DTEND;TZID=America/Chicago:20250304T120000
SEQUENCE:0
END:VEVENT
END:VCALENDAR
