BEGIN:VCALENDAR
VERSION:2.0
PRODID:-//Sabre//Sabre VObject 4.5.3//EN
CALSCALE:GREGORIAN
BEGIN:VEVENT
UID:sabre-vobject-09c5ab4e-b197-494c-a682-488154689d95
DTSTAMP:20260425T120952Z
SUMMARY:CPR/FA
DESCRIPTION:
X-ALT-DESC:FMTTYPE=text/html:<!DOCTYPE HTML PUBLIC "-//W3C//DTD HTML 3.2//E
 N"><HTML></HTML>
CREATED;TZID=America/Chicago:20250311T112347
URL;VALUE=URI:https://www.prideinc.org/calendar/cprfa-21
DTSTART;TZID=America/Chicago:20250310T093000
DTEND;TZID=America/Chicago:20250310T123000
SEQUENCE:0
END:VEVENT
BEGIN:VEVENT
UID:sabre-vobject-4d12c0c3-6bd2-4733-95ab-5a60de9f619a
DTSTAMP:20260425T120952Z
SUMMARY:CPR/FA
DESCRIPTION:
X-ALT-DESC:FMTTYPE=text/html:<!DOCTYPE HTML PUBLIC "-//W3C//DTD HTML 3.2//E
 N"><HTML></HTML>
CREATED;TZID=America/Chicago:20250311T112347
URL;VALUE=URI:https://www.prideinc.org/calendar/cprfa-21
DTSTART;TZID=America/Chicago:20250331T170000
DTEND;TZID=America/Chicago:20250331T200000
SEQUENCE:1
END:VEVENT
END:VCALENDAR
