BEGIN:VCALENDAR
VERSION:2.0
PRODID:-//Sabre//Sabre VObject 4.5.3//EN
CALSCALE:GREGORIAN
BEGIN:VEVENT
UID:sabre-vobject-b52b3df7-d0e6-4452-b865-659c371131f4
DTSTAMP:20260425T122208Z
SUMMARY:Medications
DESCRIPTION:
X-ALT-DESC:FMTTYPE=text/html:<!DOCTYPE HTML PUBLIC "-//W3C//DTD HTML 3.2//E
 N"><HTML></HTML>
CREATED;TZID=America/Chicago:20250129T154501
URL;VALUE=URI:https://www.prideinc.org/calendar/medications-20
DTSTART;TZID=America/Chicago:20250310T133000
DTEND;TZID=America/Chicago:20250310T153000
SEQUENCE:0
END:VEVENT
BEGIN:VEVENT
UID:sabre-vobject-814af013-c19c-46a1-bd54-f84d1d910f24
DTSTAMP:20260425T122208Z
SUMMARY:Medications
DESCRIPTION:
X-ALT-DESC:FMTTYPE=text/html:<!DOCTYPE HTML PUBLIC "-//W3C//DTD HTML 3.2//E
 N"><HTML></HTML>
CREATED;TZID=America/Chicago:20250129T154501
URL;VALUE=URI:https://www.prideinc.org/calendar/medications-20
DTSTART;TZID=America/Chicago:20250327T130000
DTEND;TZID=America/Chicago:20250327T150000
SEQUENCE:1
END:VEVENT
END:VCALENDAR
