BEGIN:VCALENDAR
VERSION:2.0
PRODID:-//Sabre//Sabre VObject 4.5.3//EN
CALSCALE:GREGORIAN
BEGIN:VEVENT
UID:sabre-vobject-909ea718-9f74-4d9d-99c5-0bb6e9a0c4b1
DTSTAMP:20260425T134202Z
SUMMARY:CPR/FA
DESCRIPTION:
X-ALT-DESC:FMTTYPE=text/html:<!DOCTYPE HTML PUBLIC "-//W3C//DTD HTML 3.2//E
 N"><HTML></HTML>
CREATED;TZID=America/Chicago:20250305T095448
URL;VALUE=URI:https://www.prideinc.org/calendar/cprfa-22
DTSTART;TZID=America/Chicago:20250408T170000
DTEND;TZID=America/Chicago:20250408T200000
SEQUENCE:0
END:VEVENT
BEGIN:VEVENT
UID:sabre-vobject-067fef97-3a2e-4b49-b303-3542d9785765
DTSTAMP:20260425T134202Z
SUMMARY:CPR/FA
DESCRIPTION:
X-ALT-DESC:FMTTYPE=text/html:<!DOCTYPE HTML PUBLIC "-//W3C//DTD HTML 3.2//E
 N"><HTML></HTML>
CREATED;TZID=America/Chicago:20250305T095448
URL;VALUE=URI:https://www.prideinc.org/calendar/cprfa-22
DTSTART;TZID=America/Chicago:20250421T093000
DTEND;TZID=America/Chicago:20250421T123000
SEQUENCE:1
END:VEVENT
END:VCALENDAR
