BEGIN:VCALENDAR
VERSION:2.0
PRODID:-//Sabre//Sabre VObject 4.5.3//EN
CALSCALE:GREGORIAN
BEGIN:VEVENT
UID:sabre-vobject-106c35b7-a065-4a79-a7ef-103cc6ffa895
DTSTAMP:20260425T122600Z
SUMMARY:New Team Member
DESCRIPTION:
X-ALT-DESC:FMTTYPE=text/html:<!DOCTYPE HTML PUBLIC "-//W3C//DTD HTML 3.2//E
 N"><HTML></HTML>
CREATED;TZID=America/Chicago:20250603T142158
URL;VALUE=URI:https://www.prideinc.org/calendar/new-team-member-25
DTSTART;TZID=America/Chicago:20250702T163000
DTEND;TZID=America/Chicago:20250702T183000
SEQUENCE:0
END:VEVENT
BEGIN:VEVENT
UID:sabre-vobject-e697fa8b-3bb0-443b-a27a-4e70319f4354
DTSTAMP:20260425T122600Z
SUMMARY:New Team Member
DESCRIPTION:
X-ALT-DESC:FMTTYPE=text/html:<!DOCTYPE HTML PUBLIC "-//W3C//DTD HTML 3.2//E
 N"><HTML></HTML>
CREATED;TZID=America/Chicago:20250603T142158
URL;VALUE=URI:https://www.prideinc.org/calendar/new-team-member-25
DTSTART;TZID=America/Chicago:20250709T093000
DTEND;TZID=America/Chicago:20250709T113000
SEQUENCE:1
END:VEVENT
BEGIN:VEVENT
UID:sabre-vobject-60d90e90-4bdb-4e56-be03-aa46d979ba6a
DTSTAMP:20260425T122600Z
SUMMARY:New Team Member
DESCRIPTION:
X-ALT-DESC:FMTTYPE=text/html:<!DOCTYPE HTML PUBLIC "-//W3C//DTD HTML 3.2//E
 N"><HTML></HTML>
CREATED;TZID=America/Chicago:20250603T142158
URL;VALUE=URI:https://www.prideinc.org/calendar/new-team-member-25
DTSTART;TZID=America/Chicago:20250716T163000
DTEND;TZID=America/Chicago:20250716T183000
SEQUENCE:2
END:VEVENT
BEGIN:VEVENT
UID:sabre-vobject-a65698a5-4c25-45db-b201-744b7368c7cb
DTSTAMP:20260425T122600Z
SUMMARY:New Team Member
DESCRIPTION:
X-ALT-DESC:FMTTYPE=text/html:<!DOCTYPE HTML PUBLIC "-//W3C//DTD HTML 3.2//E
 N"><HTML></HTML>
CREATED;TZID=America/Chicago:20250603T142158
URL;VALUE=URI:https://www.prideinc.org/calendar/new-team-member-25
DTSTART;TZID=America/Chicago:20250721T093000
DTEND;TZID=America/Chicago:20250721T113000
SEQUENCE:3
END:VEVENT
END:VCALENDAR
