BEGIN:VCALENDAR
VERSION:2.0
PRODID:-//Sabre//Sabre VObject 4.5.3//EN
CALSCALE:GREGORIAN
BEGIN:VEVENT
UID:sabre-vobject-e529836d-423d-4562-b430-0e0e17a2d03c
DTSTAMP:20260425T120932Z
SUMMARY:CPR/FA
DESCRIPTION:
X-ALT-DESC:FMTTYPE=text/html:<!DOCTYPE HTML PUBLIC "-//W3C//DTD HTML 3.2//E
 N"><HTML></HTML>
CREATED;TZID=America/Chicago:20250603T142831
URL;VALUE=URI:https://www.prideinc.org/calendar/cprfa-26
DTSTART;TZID=America/Chicago:20250710T093000
DTEND;TZID=America/Chicago:20250710T003000
SEQUENCE:0
END:VEVENT
BEGIN:VEVENT
UID:sabre-vobject-702d139f-89c1-4889-9db0-956facd2940a
DTSTAMP:20260425T120932Z
SUMMARY:CPR/FA
DESCRIPTION:
X-ALT-DESC:FMTTYPE=text/html:<!DOCTYPE HTML PUBLIC "-//W3C//DTD HTML 3.2//E
 N"><HTML></HTML>
CREATED;TZID=America/Chicago:20250603T142831
URL;VALUE=URI:https://www.prideinc.org/calendar/cprfa-26
DTSTART;TZID=America/Chicago:20250722T093000
DTEND;TZID=America/Chicago:20250722T003000
SEQUENCE:1
END:VEVENT
END:VCALENDAR
