BEGIN:VCALENDAR
VERSION:2.0
PRODID:-//Sabre//Sabre VObject 4.5.3//EN
CALSCALE:GREGORIAN
BEGIN:VEVENT
UID:sabre-vobject-6dacf7f0-7a13-49ef-889f-5a2eda37915d
DTSTAMP:20260425T120833Z
SUMMARY:Aging
DESCRIPTION:
X-ALT-DESC:FMTTYPE=text/html:<!DOCTYPE HTML PUBLIC "-//W3C//DTD HTML 3.2//E
 N"><HTML></HTML>
CREATED;TZID=America/Chicago:20250702T150412
URL;VALUE=URI:https://www.prideinc.org/calendar/aging-23
DTSTART;TZID=America/Chicago:20250805T100000
DTEND;TZID=America/Chicago:20250805T120000
SEQUENCE:0
END:VEVENT
END:VCALENDAR
