BEGIN:VCALENDAR
VERSION:2.0
PRODID:-//Sabre//Sabre VObject 4.5.3//EN
CALSCALE:GREGORIAN
BEGIN:VEVENT
UID:sabre-vobject-51ff1b5a-ec55-4daa-916b-c83c4bd65de3
DTSTAMP:20260425T122601Z
SUMMARY:New Team Member
DESCRIPTION:
X-ALT-DESC:FMTTYPE=text/html:<!DOCTYPE HTML PUBLIC "-//W3C//DTD HTML 3.2//E
 N"><HTML></HTML>
CREATED;TZID=America/Chicago:20230906T114903
URL;VALUE=URI:https://www.prideinc.org/calendar/new-team-member-4
DTSTART;TZID=America/Chicago:20231004T130000
DTEND;TZID=America/Chicago:20231004T160000
SEQUENCE:0
END:VEVENT
BEGIN:VEVENT
UID:sabre-vobject-e3c1369d-2af4-465b-91eb-acbb30b352c3
DTSTAMP:20260425T122601Z
SUMMARY:New Team Member
DESCRIPTION:
X-ALT-DESC:FMTTYPE=text/html:<!DOCTYPE HTML PUBLIC "-//W3C//DTD HTML 3.2//E
 N"><HTML></HTML>
CREATED;TZID=America/Chicago:20230906T114903
URL;VALUE=URI:https://www.prideinc.org/calendar/new-team-member-4
DTSTART;TZID=America/Chicago:20231011T160000
DTEND;TZID=America/Chicago:20231011T190000
SEQUENCE:1
END:VEVENT
BEGIN:VEVENT
UID:sabre-vobject-d3ed17ce-2da3-40d7-b494-eaf3078ec96d
DTSTAMP:20260425T122601Z
SUMMARY:New Team Member
DESCRIPTION:
X-ALT-DESC:FMTTYPE=text/html:<!DOCTYPE HTML PUBLIC "-//W3C//DTD HTML 3.2//E
 N"><HTML></HTML>
CREATED;TZID=America/Chicago:20230906T114903
URL;VALUE=URI:https://www.prideinc.org/calendar/new-team-member-4
DTSTART;TZID=America/Chicago:20231018T090000
DTEND;TZID=America/Chicago:20231018T120000
SEQUENCE:2
END:VEVENT
BEGIN:VEVENT
UID:sabre-vobject-35fb73e7-c098-40f2-bc96-0e8220ec4a01
DTSTAMP:20260425T122601Z
SUMMARY:New Team Member
DESCRIPTION:
X-ALT-DESC:FMTTYPE=text/html:<!DOCTYPE HTML PUBLIC "-//W3C//DTD HTML 3.2//E
 N"><HTML></HTML>
CREATED;TZID=America/Chicago:20230906T114903
URL;VALUE=URI:https://www.prideinc.org/calendar/new-team-member-4
DTSTART;TZID=America/Chicago:20231025T160000
DTEND;TZID=America/Chicago:20231025T190000
SEQUENCE:3
END:VEVENT
END:VCALENDAR
