BEGIN:VCALENDAR
VERSION:2.0
PRODID:-//Sabre//Sabre VObject 4.5.3//EN
CALSCALE:GREGORIAN
BEGIN:VEVENT
UID:sabre-vobject-f5ced043-0680-413b-8a0f-1bc0891b7e7a
DTSTAMP:20260425T104744Z
SUMMARY:APO
DESCRIPTION:
X-ALT-DESC:FMTTYPE=text/html:<!DOCTYPE HTML PUBLIC "-//W3C//DTD HTML 3.2//E
 N"><HTML></HTML>
CREATED;TZID=America/Chicago:20230906T114944
URL;VALUE=URI:https://www.prideinc.org/calendar/apo-3
DTSTART;TZID=America/Chicago:20231009T100000
DTEND;TZID=America/Chicago:20231009T120000
SEQUENCE:0
END:VEVENT
END:VCALENDAR
