BEGIN:VCALENDAR
VERSION:2.0
PRODID:-//Sabre//Sabre VObject 4.5.3//EN
CALSCALE:GREGORIAN
BEGIN:VEVENT
UID:sabre-vobject-37466184-a8cd-4b60-ac9f-253c266ecf62
DTSTAMP:20260425T122600Z
SUMMARY:Sexuality
DESCRIPTION:
X-ALT-DESC:FMTTYPE=text/html:<!DOCTYPE HTML PUBLIC "-//W3C//DTD HTML 3.2//E
 N"><HTML></HTML>
CREATED;TZID=America/Chicago:20251007T110222
URL;VALUE=URI:https://www.prideinc.org/calendar/sexuality-27
DTSTART;TZID=America/Chicago:20251110T100000
DTEND;TZID=America/Chicago:20251110T120000
SEQUENCE:0
END:VEVENT
END:VCALENDAR
