BEGIN:VCALENDAR
VERSION:2.0
PRODID:-//Sabre//Sabre VObject 4.5.3//EN
CALSCALE:GREGORIAN
BEGIN:VEVENT
UID:sabre-vobject-b8432076-c66c-4793-8597-160bd65c4eeb
DTSTAMP:20260425T122600Z
SUMMARY:Medications
DESCRIPTION:
X-ALT-DESC:FMTTYPE=text/html:<!DOCTYPE HTML PUBLIC "-//W3C//DTD HTML 3.2//E
 N"><HTML></HTML>
CREATED;TZID=America/Chicago:20251110T162507
URL;VALUE=URI:https://www.prideinc.org/calendar/medications-29
DTSTART;TZID=America/Chicago:20251204T130000
DTEND;TZID=America/Chicago:20251204T150000
SEQUENCE:0
END:VEVENT
BEGIN:VEVENT
UID:sabre-vobject-0047fdd7-58ab-48b2-b0b5-b00608315469
DTSTAMP:20260425T122600Z
SUMMARY:Medications
DESCRIPTION:
X-ALT-DESC:FMTTYPE=text/html:<!DOCTYPE HTML PUBLIC "-//W3C//DTD HTML 3.2//E
 N"><HTML></HTML>
CREATED;TZID=America/Chicago:20251110T162507
URL;VALUE=URI:https://www.prideinc.org/calendar/medications-29
DTSTART;TZID=America/Chicago:20251215T133000
DTEND;TZID=America/Chicago:20251215T153000
SEQUENCE:1
END:VEVENT
END:VCALENDAR
