BEGIN:VCALENDAR
VERSION:2.0
PRODID:-//Sabre//Sabre VObject 4.5.3//EN
CALSCALE:GREGORIAN
BEGIN:VEVENT
UID:sabre-vobject-f5e18e14-0f9f-489c-8090-da5087e41f50
DTSTAMP:20260425T120717Z
SUMMARY:CPR/FA
DESCRIPTION:
X-ALT-DESC:FMTTYPE=text/html:<!DOCTYPE HTML PUBLIC "-//W3C//DTD HTML 3.2//E
 N"><HTML></HTML>
CREATED;TZID=America/Chicago:20260318T084741
URL;VALUE=URI:https://www.prideinc.org/calendar/cprfa-34
DTSTART;TZID=America/Chicago:20260304T170000
DTEND;TZID=America/Chicago:20260304T200000
SEQUENCE:0
END:VEVENT
BEGIN:VEVENT
UID:sabre-vobject-5bebb115-ad71-405d-8bdf-1d6da7841ef2
DTSTAMP:20260425T120717Z
SUMMARY:CPR/FA
DESCRIPTION:
X-ALT-DESC:FMTTYPE=text/html:<!DOCTYPE HTML PUBLIC "-//W3C//DTD HTML 3.2//E
 N"><HTML></HTML>
CREATED;TZID=America/Chicago:20260318T084741
URL;VALUE=URI:https://www.prideinc.org/calendar/cprfa-34
DTSTART;TZID=America/Chicago:20260316T170000
DTEND;TZID=America/Chicago:20260316T200000
SEQUENCE:1
END:VEVENT
BEGIN:VEVENT
UID:sabre-vobject-d139d159-d208-4cc9-8ebc-962d2dff9c1a
DTSTAMP:20260425T120717Z
SUMMARY:CPR/FA
DESCRIPTION:
X-ALT-DESC:FMTTYPE=text/html:<!DOCTYPE HTML PUBLIC "-//W3C//DTD HTML 3.2//E
 N"><HTML></HTML>
CREATED;TZID=America/Chicago:20260318T084741
URL;VALUE=URI:https://www.prideinc.org/calendar/cprfa-34
DTSTART;TZID=America/Chicago:20260331T170000
DTEND;TZID=America/Chicago:20260331T200000
SEQUENCE:2
END:VEVENT
END:VCALENDAR
