BEGIN:VCALENDAR
VERSION:2.0
PRODID:-//Sabre//Sabre VObject 4.5.3//EN
CALSCALE:GREGORIAN
BEGIN:VEVENT
UID:sabre-vobject-e1f82f97-0731-4e57-820d-3bb56936cc0c
DTSTAMP:20260425T105006Z
SUMMARY:Aging
DESCRIPTION:
X-ALT-DESC:FMTTYPE=text/html:<!DOCTYPE HTML PUBLIC "-//W3C//DTD HTML 3.2//E
 N"><HTML></HTML>
CREATED;TZID=America/Chicago:20260204T103931
URL;VALUE=URI:https://www.prideinc.org/calendar/aging-30
DTSTART;TZID=America/Chicago:20260310T100000
DTEND;TZID=America/Chicago:20260310T120000
SEQUENCE:0
END:VEVENT
END:VCALENDAR
