BEGIN:VCALENDAR
VERSION:2.0
PRODID:-//Sabre//Sabre VObject 4.5.3//EN
CALSCALE:GREGORIAN
BEGIN:VEVENT
UID:sabre-vobject-2393aceb-550f-4e2c-9c71-c12039cafcc8
DTSTAMP:20260425T134202Z
SUMMARY:Interpersonal Communication
DESCRIPTION:
X-ALT-DESC:FMTTYPE=text/html:<!DOCTYPE HTML PUBLIC "-//W3C//DTD HTML 3.2//E
 N"><HTML></HTML>
CREATED;TZID=America/Chicago:20231113T160539
URL;VALUE=URI:https://www.prideinc.org/calendar/interpersonal-communication
DTSTART;TZID=America/Chicago:20231227T160000
DTEND;TZID=America/Chicago:20231227T173000
SEQUENCE:0
END:VEVENT
END:VCALENDAR
