BEGIN:VCALENDAR
VERSION:2.0
PRODID:-//Sabre//Sabre VObject 4.5.3//EN
CALSCALE:GREGORIAN
BEGIN:VEVENT
UID:sabre-vobject-29a6f53f-032e-429f-bb70-d1c313e4d3e0
DTSTAMP:20260425T120625Z
SUMMARY:CPR/FA
DESCRIPTION:
X-ALT-DESC:FMTTYPE=text/html:<!DOCTYPE HTML PUBLIC "-//W3C//DTD HTML 3.2//E
 N"><HTML></HTML>
CREATED;TZID=America/Chicago:20240102T151705
URL;VALUE=URI:https://www.prideinc.org/calendar/cprfa-7
DTSTART;TZID=America/Chicago:20240104T090000
DTEND;TZID=America/Chicago:20240104T120000
SEQUENCE:0
END:VEVENT
BEGIN:VEVENT
UID:sabre-vobject-983bcc3c-a1e5-48e4-aad7-d4a86c659582
DTSTAMP:20260425T120625Z
SUMMARY:CPR/FA
DESCRIPTION:
X-ALT-DESC:FMTTYPE=text/html:<!DOCTYPE HTML PUBLIC "-//W3C//DTD HTML 3.2//E
 N"><HTML></HTML>
CREATED;TZID=America/Chicago:20240102T151705
URL;VALUE=URI:https://www.prideinc.org/calendar/cprfa-7
DTSTART;TZID=America/Chicago:20240125T170000
DTEND;TZID=America/Chicago:20240125T200000
SEQUENCE:1
END:VEVENT
END:VCALENDAR
